BEGIN:VCALENDAR
VERSION:2.0
PRODID:-//Medicina Funcional Natural - ECPv6.6.1//NONSGML v1.0//EN
CALSCALE:GREGORIAN
METHOD:PUBLISH
X-ORIGINAL-URL:https://medicinafuncionalnatural.com
X-WR-CALDESC:Eventos para Medicina Funcional Natural
REFRESH-INTERVAL;VALUE=DURATION:PT1H
X-Robots-Tag:noindex
X-PUBLISHED-TTL:PT1H
BEGIN:VTIMEZONE
TZID:Europe/Madrid
BEGIN:DAYLIGHT
TZOFFSETFROM:+0100
TZOFFSETTO:+0200
TZNAME:CEST
DTSTART:20210328T010000
END:DAYLIGHT
BEGIN:STANDARD
TZOFFSETFROM:+0200
TZOFFSETTO:+0100
TZNAME:CET
DTSTART:20211031T010000
END:STANDARD
END:VTIMEZONE
BEGIN:VEVENT
DTSTART;TZID=Europe/Madrid:20211204T100000
DTEND;TZID=Europe/Madrid:20211204T183000
DTSTAMP:20260418T152811
CREATED:20211029T094820Z
LAST-MODIFIED:20211116T095423Z
UID:237-1638612000-1638642600@medicinafuncionalnatural.com
SUMMARY:Curso de Barras de Access Consciousness
DESCRIPTION:
URL:https://medicinafuncionalnatural.com/event/curso-de-barras-de-access/
END:VEVENT
END:VCALENDAR